BEGIN:VCALENDAR
VERSION:2.0
PRODID:-//eventon.com NONSGML v1.0//EN
BEGIN:VEVENT
UID:69e779f95d46e
DTSTAMP:20260421T142201
DTSTART:20260517T083000Z
DTEND:20260517T100000Z
TZID:Europe/Paris
LOCATION:https://us02web.zoom.us/j/7353973992?pwd=Q3lwZzBuT0luU3VZYVJaQTFZcENSZz09&omn=87688116119
SUMMARY:Intervision
DESCRIPTION: Venons nous retrouver sur zoom dimanche 17 mai de 10h30 à 12h pour un temps d&#8217;échanges et de pratiques. Evénement réservé aux adhérents ou instructeurs PEACE® Merci de signaler votre présence en amont en achetant un billet gratuit et réservez la date dans vos agendas! Le lien vous sera envoyé[..]\nhttps://meditation-enseignement.com/events/intervision-2/var/event_access
URL:https://meditation-enseignement.com/events/intervision-2/var/event_access
END:VEVENT
END:VCALENDAR